BEGIN:VCALENDAR
VERSION:2.0
PRODID:icalendar-ruby
CALSCALE:GREGORIAN
METHOD:PUBLISH
BEGIN:VEVENT
DTSTAMP:20260420T224032Z
UID:204-2351153@verndalefamilylifechurch.com
DTSTART:20261028T233000Z
DTEND:20261029T010000Z
CLASS:PUBLIC
CREATED:20260420T155739
DESCRIPTION:\nJoin us Wednesday nights for food\, fellowship\, and growing 
 in God’s Word.\nDinner starts at 5:40pm\nKid’s Church begins at 6:10
 pm\nAdult Small Groups begin at 6:30pm\nCome hungry\, bring the kids\, an
 d dive into community with us this winter!\n \n
LAST-MODIFIED:20260420T155739
LOCATION:Verndale Family Life Church\, 402 NE Clark Drive\, Verndale\, MN 5
 6481
SUMMARY:Small Groups
URL;VALUE=URI:https://verndalefamilylifechurch.com/events/small-groups/2026
 -10-28
ATTACH;FILENAME=00 small groups.png;FMTTYPE=image/png:https://dq5pwpg1q8ru0
 .cloudfront.net/2025/12/19/14/56/52/3d1ca2e1-7a13-400a-9e2b-8f22b3624424/0
 0%20small%20groups.png
ATTACH;FILENAME=00 Spring Mens.png;FMTTYPE=image/png:https://dq5pwpg1q8ru0.
 cloudfront.net/2026/03/06/17/06/33/62350b88-5b33-45fa-ae6e-c17dda121ef5/00
 %20Spring%20Mens.png
ATTACH;FILENAME=00 Small Grp - DBS Young Adults.png;FMTTYPE=image/png:https
 ://dq5pwpg1q8ru0.cloudfront.net/2025/12/19/15/56/52/4bae3407-0c02-4b68-b5c
 d-244724437b85/00%20Small%20Grp%20-%20DBS%20Young%20Adults.png
ATTACH;FILENAME=00 Small Grp - RVL.png;FMTTYPE=image/png:https://dq5pwpg1q8
 ru0.cloudfront.net/2025/12/19/15/56/51/534048ec-928c-4e21-9385-966eb8d7642
 6/00%20Small%20Grp%20-%20RVL.png
ATTACH;FILENAME=00 Spring Womens Godmothers.png;FMTTYPE=image/png:https://d
 q5pwpg1q8ru0.cloudfront.net/2026/03/06/17/06/34/a11d434f-c602-464c-ada4-ed
 e82fc88332/00%20Spring%20Womens%20Godmothers.png
ATTACH;FILENAME=00 Small Grp - Essentials of Faith.png;FMTTYPE=image/png:ht
 tps://dq5pwpg1q8ru0.cloudfront.net/2025/12/19/15/56/52/bcb11bc6-47f1-42b1-
 a18b-68fbdbb3f836/00%20Small%20Grp%20-%20Essentials%20of%20Faith.png
ATTACH;FILENAME=00 Small Grp - Chosen.png;FMTTYPE=image/png:https://dq5pwpg
 1q8ru0.cloudfront.net/2025/12/19/15/56/51/dc8c24c8-381d-43bf-abf7-89a88c02
 1b36/00%20Small%20Grp%20-%20Chosen.png
END:VEVENT
END:VCALENDAR
