BEGIN:VCALENDAR
VERSION:2.0
PRODID:icalendar-ruby
CALSCALE:GREGORIAN
METHOD:PUBLISH
BEGIN:VEVENT
DTSTAMP:20260423T114033Z
UID:496-2287110@verndalefamilylifechurch.com
DTSTART:20260426T150000Z
DTEND:20260426T163000Z
CLASS:PUBLIC
CREATED:20260413T095556
DESCRIPTION:Our Kids Camp offering that we received last year was a tremend
 ous success\, helping allow every kid go to Kid’s camp! Many kids made d
 ecisions to follow Christ\, filled with the Holy Spirit &amp\; had transfo
 rmations in their life. What a great investment! Thank you! To help reduce
  the cost for families this year again\, we’ll be receiving a special of
 fering on April 26th during the service. Your generosity will help make th
 is life-changing opportunity possible for more kids\, investing in their f
 aith and future for eternity.  
LAST-MODIFIED:20260413T095556
LOCATION:Verndale Family Life Church| 
SUMMARY:Kid's Camp Offering 
URL;VALUE=URI:https://verndalefamilylifechurch.com/events/kids-camp-offerin
 g--496/2026-04-26
ATTACH;FILENAME=0426 Kids Camp Offering.png;FMTTYPE=image/png:https://dq5pw
 pg1q8ru0.cloudfront.net/2026/04/13/14/54/53/7dae1723-5c1d-4757-a72a-45b4bc
 181d46/0426%20Kids%20Camp%20Offering.png
END:VEVENT
END:VCALENDAR
