BEGIN:VCALENDAR
VERSION:2.0
PRODID:icalendar-ruby
CALSCALE:GREGORIAN
METHOD:PUBLISH
BEGIN:VEVENT
DTSTAMP:20260424T153322Z
UID:492-2178803@verndalefamilylifechurch.com
DTSTART:20260503T150000Z
DTEND:20260503T153000Z
CLASS:PUBLIC
CREATED:20260331T115323
DESCRIPTION:
LAST-MODIFIED:20260331T115323
LOCATION:Verndale Family Life Church| 
SUMMARY:Graduate Recognition Sunday 
URL;VALUE=URI:https://verndalefamilylifechurch.com/events/graduate-recognit
 ion-sunday--492/2026-05-03
ATTACH;FILENAME=050326 Grad Sunday 05.03.png;FMTTYPE=image/png:https://dq5p
 wpg1q8ru0.cloudfront.net/2026/03/31/16/53/23/7cf3b658-0461-466c-8c84-38a6a
 3d3c64a/050326%20Grad%20Sunday%2005.03.png
END:VEVENT
END:VCALENDAR
