BEGIN:VCALENDAR
VERSION:2.0
PRODID:icalendar-ruby
CALSCALE:GREGORIAN
METHOD:PUBLISH
BEGIN:VEVENT
DTSTAMP:20260423T221744Z
UID:80-2374641@verndalefamilylifechurch.com
DTSTART:20260802T220000Z
DTEND:20260803T000000Z
CLASS:PUBLIC
CREATED:20260423T142831
DESCRIPTION:Join us Every Sunday for Celebrate Recovery starting at 5:00pm\
 nCelebrate Recovery is a Christ-centered\, 12 step recovery program aimed 
 at all "hurts\, habits\, and hang-ups"\, including but not exclusive to: h
 igh anxiety\; co-dependency\; compulsive behaviors\; sex addiction\; finan
 cial dysfunction\; drug and alcohol addictions\; and eating disorders. Ce
 lebrate Recovery is a safe place to find community and freedom from the is
 sues that are controlling your life.
LAST-MODIFIED:20260423T142831
LOCATION:402 NE Clark Drive\, Verndale\, MN 56481
SUMMARY:Celebrate Recovery
URL;VALUE=URI:https://verndalefamilylifechurch.com/events/celebrate-recover
 y/2026-08-02
ATTACH;FILENAME=00 CELEBRATE RECOVERY CR.png;FMTTYPE=image/png:https://dq5p
 wpg1q8ru0.cloudfront.net/2026/04/14/17/18/47/64c42bdf-23e0-4745-bbcb-7ce56
 d52292a/00%20CELEBRATE%20RECOVERY%20CR.png
END:VEVENT
END:VCALENDAR
